BEGIN:VCALENDAR
VERSION:2.0
PRODID:-//D.C. Chapter of the Surfrider Foundation - ECPv5.7.0//NONSGML v1.0//EN
CALSCALE:GREGORIAN
METHOD:PUBLISH
X-WR-CALNAME:D.C. Chapter of the Surfrider Foundation
X-ORIGINAL-URL:https://dc.surfrider.org
X-WR-CALDESC:Events for D.C. Chapter of the Surfrider Foundation
BEGIN:VTIMEZONE
TZID:America/New_York
BEGIN:DAYLIGHT
TZOFFSETFROM:-0500
TZOFFSETTO:-0400
TZNAME:EDT
DTSTART:20210314T070000
END:DAYLIGHT
BEGIN:STANDARD
TZOFFSETFROM:-0400
TZOFFSETTO:-0500
TZNAME:EST
DTSTART:20211107T060000
END:STANDARD
END:VTIMEZONE
BEGIN:VEVENT
DTSTART;TZID=America/New_York:20210203T183000
DTEND;TZID=America/New_York:20210203T193000
DTSTAMP:20210724T095547
CREATED:20210124T170115Z
LAST-MODIFIED:20210202T215334Z
UID:3242-1612377000-1612380600@dc.surfrider.org
SUMMARY:Chapter Meeting Feb 3 - On Zoom
DESCRIPTION:Please join us for our next virtual chapter meeting on February 3\, 2020. \n\nWhere: Zoom\, please register here\nWhen: February 3\, 6:30-7:30pm\nWhy: Members of the Anacostia Watershed Community Advisory Committee will be joining us to tell Surfrider DC members how they can get involved to support the redevelopment of the Kenilworth Park Landfill Site.\n\nThis site is an area of about 130 acres located right on the border of the Anacostia River. For almost 30 years\, this tract of land located in DC’s 7th ward was an open-burn landfill site. The harmful smoke it produced would make its way to the communities that surrounded it\, a population mainly made up of BIPOC. The National Park System is working to restore this area and your voice matters! Read more.\n\n\nWho: Anyone can join!
URL:https://dc.surfrider.org/event/chapter-meeting-feb-3-on-zoom/
LOCATION:zoom
ATTACH;FMTTYPE=image/jpeg:https://dc.surfrider.org/wp-content/uploads/2020/11/1967_May24_working_1.jpg
ORGANIZER;CN="Charlotte%20Runzel%2C%20Chair":MAILTO:chair@dc.surfrider.org
END:VEVENT
BEGIN:VEVENT
DTSTART;TZID=America/New_York:20210307T100000
DTEND;TZID=America/New_York:20210307T140000
DTSTAMP:20210724T095547
CREATED:20210304T144405Z
LAST-MODIFIED:20210304T144405Z
UID:3257-1615111200-1615125600@dc.surfrider.org
SUMMARY:Rock Creek Park Hike
DESCRIPTION:Join us for a socially distant hike in rock creek park! We’ll meet at the Rock Creek Park Nature Center and Planetarium (5200 Glover Rd NW near the intersection of Military and Glover Road) at 10am and do a 3-mile hike on a walking trail called the boulder bridge loop. \n\nBring: your mask\, your dog (if you have one)\, water\, and snacks!\nWho: all members and anyone interested in joining our chapter!\n\nPlease email chair@dc.surfrider.org if you have any questions and RSVP.
URL:https://dc.surfrider.org/event/rock-creek-park-hike/
LOCATION:Rock Creek Park Nature Center and Planetarium  5200 Glover Road Northwest  Washington\, DC 20015\, 5200 Glover Road Northwest\, Washington\, DC\, 20015\, United States
CATEGORIES:Social Event
ATTACH;FMTTYPE=image/jpeg:https://dc.surfrider.org/wp-content/uploads/2021/03/1.jpg
ORGANIZER;CN="Charlotte%20Runzel%2C%20Chair":MAILTO:chair@dc.surfrider.org
END:VEVENT
BEGIN:VEVENT
DTSTART;TZID=America/New_York:20210407T183000
DTEND;TZID=America/New_York:20210407T193000
DTSTAMP:20210724T095547
CREATED:20210402T133212Z
LAST-MODIFIED:20210402T133216Z
UID:3276-1617820200-1617823800@dc.surfrider.org
SUMMARY:April 7 • Chapter Meeting • On Zoom
DESCRIPTION:Join us for our next chapter meeting on April 7 at 6:30pm. We’ll have some expert speakers chat about the Break Free From Plastic Pollution Act. Please email chair@dc.surfrider.org if you have any questions and register here! Feel free to share the registration link with anyone interested in joining Surfrider DC.
URL:https://dc.surfrider.org/event/april-7-%e2%80%a2-chapter-meeting-%e2%80%a2-on-zoom/
LOCATION:zoom
CATEGORIES:Advocacy,Chapter Meeting
ATTACH;FMTTYPE=image/jpeg:https://dc.surfrider.org/wp-content/uploads/2020/02/IMG_1255.jpg
ORGANIZER;CN="Charlotte%20Runzel%2C%20Chair":MAILTO:chair@dc.surfrider.org
END:VEVENT
BEGIN:VEVENT
DTSTART;TZID=America/New_York:20210602T180000
DTEND;TZID=America/New_York:20210602T190000
DTSTAMP:20210724T095547
CREATED:20210524T144527Z
LAST-MODIFIED:20210524T144527Z
UID:3286-1622656800-1622660400@dc.surfrider.org
SUMMARY:Yoga at the Yards D.C. Surfrider
DESCRIPTION:RSVP here. \n\n\n\nJoin Surfrider D.C. for by-donation yoga in Yards Park. All levels are welcome! Happy hour & meeting at an Ocean Friendly Restaurant after.\n\n\n\n\n\nAbout this event\n\n\nWind down with yoga by the water at the Yards Park with Surfrider D.C. Certified yoga instructor and Surfrider member Steph Rifai will lead us in a rejuvenating yoga session by the Anacostia River in Yards Park (location below). This will be accessible to all experience levels\, with plenty of options for modifications. After the session\, we will head to the Ocean Friendly Restaurant Rasa for happy hour and a chapter meeting! \nThis is a by-donation event\, with a suggested donation of $10 that will support the Indigenous Vision Project. \nPlease bring your own mat or towel\, water\, and a face mask\, and a blanket or towel for hanging out in the park after. \nLOCATION: Yoga will be in the grassy field to the West of the Anacostia Riverwalk Trail bridge (circled in yellow on the map).
URL:https://dc.surfrider.org/event/yoga-at-the-yards-d-c-surfrider/
LOCATION:The Yards Park\, 355 Water St SE\, Washington\, DC\, 20003\, United States
CATEGORIES:Fundraiser,Partner Event,Social Event
ORGANIZER;CN="Megan%20McDaniels%2C%20Cleanup%20Chair":MAILTO:cleanup@dc.surfrider.org
END:VEVENT
BEGIN:VEVENT
DTSTART;TZID=America/New_York:20210602T193000
DTEND;TZID=America/New_York:20210602T213000
DTSTAMP:20210724T095547
CREATED:20210524T144849Z
LAST-MODIFIED:20210524T144849Z
UID:3290-1622662200-1622669400@dc.surfrider.org
SUMMARY:June Chapter Meeting & Happy Hour Social
DESCRIPTION:RSVP here. \n\n\n\nJoin us for the June Surfrider D.C. chapter meeting and happy hour social at Rasa in the Yards Park! Will be socially-distanced & outdoors.\n\n\n\n\n\nAbout this event\n\n\nJoin Surfrider D.C. for our June chapter meeting and happy hour social at Rasa\, an Ocean Friendly Restaurant in the Yards Park. \nWe will be meeting at Rasa and having our meeting in the nearby park\, so bring a blanket or towel to sit on. After our meeting\, we will hang out for a happy hour social. See you there!
URL:https://dc.surfrider.org/event/june-chapter-meeting-happy-hour-social/
LOCATION:RASA\, 1247 First St SE\, Washington\, DC\, 20003\, United States
CATEGORIES:Chapter Meeting,Happy Hour
ORGANIZER;CN="Megan%20McDaniels%2C%20Cleanup%20Chair":MAILTO:cleanup@dc.surfrider.org
END:VEVENT
END:VCALENDAR