BEGIN:VCALENDAR
VERSION:2.0
PRODID:-//D.C. Chapter of the Surfrider Foundation - ECPv5.5.0.1//NONSGML v1.0//EN
CALSCALE:GREGORIAN
METHOD:PUBLISH
X-WR-CALNAME:D.C. Chapter of the Surfrider Foundation
X-ORIGINAL-URL:https://dc.surfrider.org
X-WR-CALDESC:Events for D.C. Chapter of the Surfrider Foundation
BEGIN:VTIMEZONE
TZID:America/New_York
BEGIN:DAYLIGHT
TZOFFSETFROM:-0500
TZOFFSETTO:-0400
TZNAME:EDT
DTSTART:20200308T070000
END:DAYLIGHT
BEGIN:STANDARD
TZOFFSETFROM:-0400
TZOFFSETTO:-0500
TZNAME:EST
DTSTART:20201101T060000
END:STANDARD
END:VTIMEZONE
BEGIN:VEVENT
DTSTART;VALUE=DATE:20200705
DTEND;VALUE=DATE:20200706
DTSTAMP:20210428T030315
CREATED:20200701T191505Z
LAST-MODIFIED:20200701T191718Z
UID:2969-1593907200-1593993599@dc.surfrider.org
SUMMARY:July 5th Remote Cleanup
DESCRIPTION:Join us in our first socially-distant\, remote cleanup on July 5th! Members will be able to individually cleanup their neighborhood or street\, collect data\, and share their results to contribute to our chapter’s goal of clean rivers and healthy beaches. If you are interested in joining\, please fill out this form and review the safety\, trash\, and data collection guidelines. After the cleanup\, be sure to share your data and any photos you take!   \n\nSAFETY \n\n\n\n\nIf you are feeling sick\, do not participate in a solo cleanup and stay home\nWear a mask throughout your cleanup\nPractice social distancing – stay 6 ft away from other people\, and avoid crowded areas and busy times\, like morning and evening\nWear gloves – if they are disposable\, be sure to not touch your face and throw away immediately. If they are reusable\, be sure to remove after cleanup and wash them.\nBring hand sanitizer and use after taking off your gloves\nUse a trash picker if possible\nUse caution if picking up broken glass and sharp pieces of metal\nPay attention to your surroundings\, especially if you are picking up trash in the street\n\n\n  TRASH & RECYCLING DISPOSAL \n\n\n\n\nBring separate bags for recycling and trash\, and bring an extra bag\nFamiliarize yourself on what can be recycled in DC or wherever else you are cleaning up\nBring waste back to your home trash and recycling cans – you may be fined for dumping trash in public waste bins\nRecycling cannot be disposed of in a plastic bag; empty your collection bag of recycling into the recycling bin\n\n  \n\nDATA COLLECTION \n\n\n\n\nRecord the types of trash and amounts in the official Surfrider data card and the supplemental COVID-19 waste data card OR\nRecord the types and amount of trash on your phone or piece of paper\nIf you can\, please weigh your trash at a scale at home (you can weigh yourself holding the trash and subtract your weight)\nAfter the cleanup\, email your data or picture of your data card to cleanup@dc.surfrider.org. Also\, let us know about any thoughts you have on causes of litter in your park or neighborhood\, and your ideas for solutions or ways Surfrider can get invovled!
URL:https://dc.surfrider.org/event/july-5th-remote-cleanup/
CATEGORIES:Clean-Up
ATTACH;FMTTYPE=image/jpeg:https://dc.surfrider.org/wp-content/uploads/2020/07/surfrider-cleanup-image.jpg
ORGANIZER;CN="Megan%20McDaniels%2C%20Cleanup%20Chair":MAILTO:cleanup@dc.surfrider.org
END:VEVENT
END:VCALENDAR